BEGIN:VCALENDAR
VERSION:2.0
PRODID:spatie/icalendar-generator
DESCRIPTION:Events from Make San Antonio
X-WR-CALDESC:Events from Make San Antonio
REFRESH-INTERVAL;VALUE=DURATION:PT1440M
X-PUBLISHED-TTL:PT1440M
BEGIN:VTIMEZONE
TZID:America/Chicago
BEGIN:STANDARD
DTSTART:20171105T020000Z
TZOFFSETFROM:-0500
TZOFFSETTO:-0600
END:STANDARD
BEGIN:DAYLIGHT
DTSTART:20180311T020000Z
TZOFFSETFROM:-0600
TZOFFSETTO:-0500
END:DAYLIGHT
END:VTIMEZONE
BEGIN:VTIMEZONE
TZID:UTC
BEGIN:STANDARD
DTSTART:20250723T202602Z
TZOFFSETFROM:+0000
TZOFFSETTO:+0000
END:STANDARD
END:VTIMEZONE
BEGIN:VEVENT
UID:812-21
DTSTAMP:20260419T202602Z
SUMMARY:Boerne Market Days
LOCATION:
ORGANIZER;CN=Jennifer Herrera:MAILTO:jenn.herrera@gmail.com
DTSTART;TZID=America/Chicago:20171217T100000
DTEND;TZID=America/Chicago:20171217T160000
X-ALT-DESC;FMTTYPE=TEXT/HTML:Boerne Market Days is located in the heart of 
 the historical district on Main Plaza. Open Saturday 10am-5pm and Sunday 1
 0am-4pm\, it has become synonymous with great shopping in an outdoor setti
 ng with artists\, craftsmen and vendors sharing their creative talents and
  wares to the background music of some of Texas' best home grown musicians
 .&amp;hellip\;
CATEGORIES:General
URL;VALUE=URI:https://makesanantonio.com/mc-events/boerne-market-days-10
METHOD:PUBLISH
END:VEVENT
END:VCALENDAR