BEGIN:VCALENDAR
VERSION:2.0
PRODID:spatie/icalendar-generator
DESCRIPTION:Events from Make San Antonio
X-WR-CALDESC:Events from Make San Antonio
REFRESH-INTERVAL;VALUE=DURATION:PT1440M
X-PUBLISHED-TTL:PT1440M
BEGIN:VTIMEZONE
TZID:America/Chicago
BEGIN:DAYLIGHT
DTSTART:20170312T020000Z
TZOFFSETFROM:-0600
TZOFFSETTO:-0500
END:DAYLIGHT
BEGIN:STANDARD
DTSTART:20171105T020000Z
TZOFFSETFROM:-0500
TZOFFSETTO:-0600
END:STANDARD
END:VTIMEZONE
BEGIN:VTIMEZONE
TZID:UTC
BEGIN:STANDARD
DTSTART:20250723T133922Z
TZOFFSETFROM:+0000
TZOFFSETTO:+0000
END:STANDARD
END:VTIMEZONE
BEGIN:VEVENT
UID:801-10
DTSTAMP:20260419T133922Z
SUMMARY:First Friday Pallet Party w/Crafthouse Studios
LOCATION:
ORGANIZER;CN=Jennifer Herrera:MAILTO:jenn.herrera@gmail.com
DTSTART;TZID=America/Chicago:20170901T190000
DTEND;TZID=America/Chicago:20170901T213000
X-ALT-DESC;FMTTYPE=TEXT/HTML:Channel your inner Joanna Gaines and join us a
 t The Rustic Grape for our first First Friday Pallet Party of the season! 
 Participants will learn to distress\, stain\, assemble and layer designs f
 or create their own custom farmhouse sign. Finished product will measure 2
 4\"x18\" so start finding the perfect spot! Fee includes everything you ne
 ed&amp;hellip\;
CATEGORIES:San Antonio Event
URL;VALUE=URI:https://makesanantonio.com/mc-events/first-friday-pallet-part
 y-wcrafthouse-studios
METHOD:PUBLISH
END:VEVENT
END:VCALENDAR