BEGIN:VCALENDAR
VERSION:2.0
PRODID:spatie/icalendar-generator
DESCRIPTION:Events from Make San Antonio
X-WR-CALDESC:Events from Make San Antonio
REFRESH-INTERVAL;VALUE=DURATION:PT1440M
X-PUBLISHED-TTL:PT1440M
BEGIN:VTIMEZONE
TZID:America/Chicago
BEGIN:DAYLIGHT
DTSTART:20170312T020000Z
TZOFFSETFROM:-0600
TZOFFSETTO:-0500
END:DAYLIGHT
BEGIN:STANDARD
DTSTART:20171105T020000Z
TZOFFSETFROM:-0500
TZOFFSETTO:-0600
END:STANDARD
BEGIN:DAYLIGHT
DTSTART:20180311T020000Z
TZOFFSETFROM:-0600
TZOFFSETTO:-0500
END:DAYLIGHT
END:VTIMEZONE
BEGIN:VTIMEZONE
TZID:UTC
BEGIN:STANDARD
DTSTART:20250724T060441Z
TZOFFSETFROM:+0000
TZOFFSETTO:+0000
END:STANDARD
END:VTIMEZONE
BEGIN:VEVENT
UID:789-9
DTSTAMP:20260420T060441Z
SUMMARY:Alamo Area Woodcarvers
LOCATION:Parman Library 20735 Wilderness Oak  San Antonio TX 78258
ORGANIZER;CN=Jennifer Herrera:MAILTO:jenn.herrera@gmail.com
RRULE:FREQ=WEEKLY;COUNT=19
DTSTART;TZID=America/Chicago:20171017T123000
DTEND;TZID=America/Chicago:20171017T153000
X-ALT-DESC;FMTTYPE=TEXT/HTML:Join the Alamo Area Woodcarvers for community 
 carving. Beginners welcome.
CATEGORIES:San Antonio Event
URL;VALUE=URI:https://makesanantonio.com/mc-events/alamo-area-woodcarvers?m
 c_id=789
METHOD:PUBLISH
END:VEVENT
END:VCALENDAR